BEGIN:VCALENDAR
VERSION:2.0
PRODID:spatie/icalendar-generator
DESCRIPTION:Veranstaltungen von Lokalquelle
X-WR-CALDESC:Veranstaltungen von Lokalquelle
REFRESH-INTERVAL;VALUE=DURATION:PT1440M
X-PUBLISHED-TTL:PT1440M
BEGIN:VTIMEZONE
TZID:Etc/GMT-1
BEGIN:STANDARD
DTSTART:20250801T163000Z
TZOFFSETFROM:+0100
TZOFFSETTO:+0100
END:STANDARD
END:VTIMEZONE
BEGIN:VTIMEZONE
TZID:UTC
BEGIN:STANDARD
DTSTART:20250728T101323Z
TZOFFSETFROM:+0000
TZOFFSETTO:+0000
END:STANDARD
END:VTIMEZONE
BEGIN:VEVENT
UID:2918-1430
DTSTAMP:20260424T101323Z
SUMMARY:Ernährungswissenschaft leicht gemacht: Warum wir essen\, wie wir e
 ssen
LOCATION:Wandelhalle Brunnenstraße 4  Bad Pyrmont
ORGANIZER;CN=admin:MAILTO:info@acm-marketing.de
DTSTART;TZID=Etc/GMT-1:20260428T163000
DTEND;TZID=Etc/GMT-1:20260428T173000
X-ALT-DESC;FMTTYPE=TEXT/HTML:
CATEGORIES:Veranstaltungen
URL;VALUE=URI:https://lokalquelle.de/mc-events/ernaehrungswissenschaft-leic
 ht-gemacht-warum-wir-essen-wie-wir-essen/
METHOD:PUBLISH
END:VEVENT
END:VCALENDAR